BEGIN:VCALENDAR
VERSION:2.0
PRODID:-//Lucan Educate Together - ECPv5.16.4//NONSGML v1.0//EN
CALSCALE:GREGORIAN
METHOD:PUBLISH
X-WR-CALNAME:Lucan Educate Together
X-ORIGINAL-URL:http://www.letns.org
X-WR-CALDESC:Events for Lucan Educate Together
BEGIN:VTIMEZONE
TZID:UTC
BEGIN:STANDARD
TZOFFSETFROM:+0000
TZOFFSETTO:+0000
TZNAME:UTC
DTSTART:20250101T000000
END:STANDARD
END:VTIMEZONE
BEGIN:VEVENT
DTSTART;VALUE=DATE:20250519
DTEND;VALUE=DATE:20250524
DTSTAMP:20260419T194525
CREATED:20250129T135002Z
LAST-MODIFIED:20250129T135016Z
UID:17268-1747612800-1748044799@www.letns.org
SUMMARY:Bí Cineálta (Friendship) Week
DESCRIPTION:
URL:http://www.letns.org/event/bi-cinealta-friendship-week/
END:VEVENT
END:VCALENDAR