BEGIN:VCALENDAR
VERSION:2.0
PRODID:-//Lucan Educate Together - ECPv5.16.4//NONSGML v1.0//EN
CALSCALE:GREGORIAN
METHOD:PUBLISH
X-WR-CALNAME:Lucan Educate Together
X-ORIGINAL-URL:http://www.letns.org
X-WR-CALDESC:Events for Lucan Educate Together
BEGIN:VTIMEZONE
TZID:UTC
BEGIN:STANDARD
TZOFFSETFROM:+0000
TZOFFSETTO:+0000
TZNAME:UTC
DTSTART:20240101T000000
END:STANDARD
END:VTIMEZONE
BEGIN:VEVENT
DTSTART;TZID=UTC:20241219T090000
DTEND;TZID=UTC:20241219T110000
DTSTAMP:20260423T232100
CREATED:20241206T120758Z
LAST-MODIFIED:20241206T145309Z
UID:17223-1734598800-1734606000@www.letns.org
SUMMARY:Winter Performances
DESCRIPTION:End of Term Winter Performance \nPerformance 1 at 9am: \n  \nRang Danú / Helen & Rang Padraig / Sarah \nRang Lugh / Fiona & Rang Brigid / Karen \nRang Fionn / Emma & Rang Eostre / Ruth & Catriona \nRang Boann / Amanda & Rang Cúchulainn / Seamus \n  \nPerformance 2 at 11am: \nRang Eirú / Sarah & Rang Fódla / Caoimhe \nRang Anú / Aishling & Rang Oghma / Colum \nRang Medb / Michael & Rang Tara / Muireann \nRang Aengus / Sarah & Rang Dagda / Maeve \n 
URL:http://www.letns.org/event/winter-performances/
END:VEVENT
END:VCALENDAR