BEGIN:VCALENDAR
VERSION:2.0
PRODID:-//Lucan Educate Together - ECPv5.16.4//NONSGML v1.0//EN
CALSCALE:GREGORIAN
METHOD:PUBLISH
X-WR-CALNAME:Lucan Educate Together
X-ORIGINAL-URL:http://www.letns.org
X-WR-CALDESC:Events for Lucan Educate Together
BEGIN:VTIMEZONE
TZID:UTC
BEGIN:STANDARD
TZOFFSETFROM:+0000
TZOFFSETTO:+0000
TZNAME:UTC
DTSTART:20240101T000000
END:STANDARD
END:VTIMEZONE
BEGIN:VEVENT
DTSTART;TZID=UTC:20241125T091500
DTEND;TZID=UTC:20241125T100000
DTSTAMP:20260420T155021
CREATED:20240905T082448Z
LAST-MODIFIED:20240905T082448Z
UID:17154-1732526100-1732528800@www.letns.org
SUMMARY:Assembly - Rang Tara / Muireann's 5th
DESCRIPTION:
URL:http://www.letns.org/event/assembly-rang-tara-muireanns-5th/
END:VEVENT
END:VCALENDAR